BEGIN:VCALENDAR
VERSION:2.0
PRODID:-//OmniMagnetCalendar//EN
BEGIN:VEVENT
DTSTAMP:20190625T195740Z
STATUS:CONFIRMED
UID:hcmaryland.clubs.harvard.edu286
DTSTART:20251122T173419Z
DTEND:
LOCATION:Claddagh Pub, 2918 O’Donnell St, Baltimore, MD, 21224,
SUMMARY:Yale-Harvard Game Viewing Party 2025
DESCRIPTION:
BEGIN:VALARM
TRIGGER:-PT15M
ACTION:DISPLAY
END:VALARM
TRANSP:OPAQUE
END:VEVENT
END:VCALENDAR
