BEGIN:VCALENDAR
VERSION:2.0
PRODID:-//OmniMagnetCalendar//EN
BEGIN:VEVENT
DTSTAMP:20190625T195740Z
STATUS:CONFIRMED
UID:hcmaryland.clubs.harvard.edu281
DTSTART:20250611T220000Z
DTEND:20250612T000000Z
LOCATION:14 Huntersworth Court, Owings Mills, MD, 21117,
SUMMARY:BOOK PARTY & CELEBRATION
DESCRIPTION:Meet David I. Sandberg, M.D., FACS, FAAP at our book party celebrating the launch of his new memoir, "Brain and Heart The Triumphs and Struggles of a Pediatric Neurosurgeon".
BEGIN:VALARM
TRIGGER:-PT15M
ACTION:DISPLAY
END:VALARM
TRANSP:OPAQUE
END:VEVENT
END:VCALENDAR
